BEGIN:VCALENDAR
VERSION:2.0
PRODID:-//FBINAA Michigan - ECPv6.0.11//NONSGML v1.0//EN
CALSCALE:GREGORIAN
METHOD:PUBLISH
X-WR-CALNAME:FBINAA Michigan
X-ORIGINAL-URL:https://fbinaamichigan.org
X-WR-CALDESC:Events for FBINAA Michigan
REFRESH-INTERVAL;VALUE=DURATION:PT1H
X-Robots-Tag:noindex
X-PUBLISHED-TTL:PT1H
BEGIN:VTIMEZONE
TZID:America/Detroit
BEGIN:DAYLIGHT
TZOFFSETFROM:-0500
TZOFFSETTO:-0400
TZNAME:EDT
DTSTART:20230312T070000
END:DAYLIGHT
BEGIN:STANDARD
TZOFFSETFROM:-0400
TZOFFSETTO:-0500
TZNAME:EST
DTSTART:20231105T060000
END:STANDARD
END:VTIMEZONE
BEGIN:VEVENT
DTSTART;VALUE=DATE:20231206
DTEND;VALUE=DATE:20231207
DTSTAMP:20260423T074957
CREATED:20230503T151824Z
LAST-MODIFIED:20231113T164034Z
UID:10000031-1701820800-1701907199@fbinaamichigan.org
SUMMARY:2023 FBINAA MICHIGAN CHAPTER SPRING NEWSLETTER
DESCRIPTION:Download a copy of our 2023 FBINAA Michigan Chapter Spring Newsletter Today!
URL:https://fbinaamichigan.org/event/2023-fbinaa-michigan-chapter-spring-newsletter/
LOCATION:Virtual / Electronic
CATEGORIES:ANNOUNCEMENTS
ATTACH;FMTTYPE=image/png:https://fbinaamichigan.org/wp-content/uploads/2023/05/Download-a-copy-of-our-2023-FBINAA-Michigan-Chapter-Spring-Newsletter-Today_Page_1-1.png
END:VEVENT
END:VCALENDAR